BEGIN:VCALENDAR
VERSION:2.0
PRODID:-//Houston Quran Academy - ECPv6.15.11//NONSGML v1.0//EN
CALSCALE:GREGORIAN
METHOD:PUBLISH
X-ORIGINAL-URL:https://hquranacademy.org
X-WR-CALDESC:Events for Houston Quran Academy
REFRESH-INTERVAL;VALUE=DURATION:PT1H
X-Robots-Tag:noindex
X-PUBLISHED-TTL:PT1H
BEGIN:VTIMEZONE
TZID:UTC
BEGIN:STANDARD
TZOFFSETFROM:+0000
TZOFFSETTO:+0000
TZNAME:UTC
DTSTART:20200101T000000
END:STANDARD
END:VTIMEZONE
BEGIN:VEVENT
DTSTART;VALUE=DATE:20230517
DTEND;VALUE=DATE:20230518
DTSTAMP:20260424T111743
CREATED:20220829T192756Z
LAST-MODIFIED:20220829T193059Z
UID:8373-1684281600-1684367999@hquranacademy.org
SUMMARY:Last Day of School
DESCRIPTION:
URL:https://hquranacademy.org/events/last-day-of-school-3/
CATEGORIES:Grading Periods
END:VEVENT
BEGIN:VEVENT
DTSTART;VALUE=DATE:20230103
DTEND;VALUE=DATE:20230104
DTSTAMP:20260424T111743
CREATED:20220829T183216Z
LAST-MODIFIED:20220829T183224Z
UID:8338-1672704000-1672790399@hquranacademy.org
SUMMARY:Grading Period III begins
DESCRIPTION:
URL:https://hquranacademy.org/events/grading-period-iii-begins-2/
CATEGORIES:Grading Periods
END:VEVENT
BEGIN:VEVENT
DTSTART;VALUE=DATE:20221014
DTEND;VALUE=DATE:20221017
DTSTAMP:20260424T111743
CREATED:20220829T181158Z
LAST-MODIFIED:20220829T181158Z
UID:8316-1665705600-1665964799@hquranacademy.org
SUMMARY:Youth Camp
DESCRIPTION:
URL:https://hquranacademy.org/events/youth-camp/
CATEGORIES:Grading Periods
END:VEVENT
BEGIN:VEVENT
DTSTART;VALUE=DATE:20221012
DTEND;VALUE=DATE:20221013
DTSTAMP:20260424T111743
CREATED:20220829T180920Z
LAST-MODIFIED:20220829T180920Z
UID:8314-1665532800-1665619199@hquranacademy.org
SUMMARY:Grading Period II Begins
DESCRIPTION:
URL:https://hquranacademy.org/events/grading-period-ii-begins-3/
CATEGORIES:Grading Periods
END:VEVENT
BEGIN:VEVENT
DTSTART;VALUE=DATE:20221011
DTEND;VALUE=DATE:20221012
DTSTAMP:20260424T111743
CREATED:20220828T213439Z
LAST-MODIFIED:20220828T213439Z
UID:8302-1665446400-1665532799@hquranacademy.org
SUMMARY:Grading Period I Ends
DESCRIPTION:
URL:https://hquranacademy.org/events/grading-period-i-ends-3/
CATEGORIES:Grading Periods
END:VEVENT
BEGIN:VEVENT
DTSTART;VALUE=DATE:20220519
DTEND;VALUE=DATE:20220520
DTSTAMP:20260424T111743
CREATED:20210730T125738Z
LAST-MODIFIED:20210730T125738Z
UID:8115-1652918400-1653004799@hquranacademy.org
SUMMARY:Grading Period IV ends
DESCRIPTION:
URL:https://hquranacademy.org/events/grading-period-iv-ends-2/
CATEGORIES:Academic,Grading Periods
END:VEVENT
BEGIN:VEVENT
DTSTART;VALUE=DATE:20220321
DTEND;VALUE=DATE:20220322
DTSTAMP:20260424T111743
CREATED:20210730T124918Z
LAST-MODIFIED:20210730T130115Z
UID:8096-1647820800-1647907199@hquranacademy.org
SUMMARY:Grading Period IV Begins
DESCRIPTION:
URL:https://hquranacademy.org/events/grading-period-iv-begins/
CATEGORIES:Academic,Grading Periods
END:VEVENT
BEGIN:VEVENT
DTSTART;VALUE=DATE:20220311
DTEND;VALUE=DATE:20220312
DTSTAMP:20260424T111743
CREATED:20210730T124800Z
LAST-MODIFIED:20210730T132936Z
UID:8092-1646956800-1647043199@hquranacademy.org
SUMMARY:Grading Period III Ends
DESCRIPTION:
URL:https://hquranacademy.org/events/grading-period-iii-ends-2/
CATEGORIES:Grading Periods
END:VEVENT
BEGIN:VEVENT
DTSTART;VALUE=DATE:20220103
DTEND;VALUE=DATE:20220104
DTSTAMP:20260424T111743
CREATED:20210730T124119Z
LAST-MODIFIED:20210730T125845Z
UID:8077-1641168000-1641254399@hquranacademy.org
SUMMARY:Grading Period III begins
DESCRIPTION:
URL:https://hquranacademy.org/events/grading-period-iii-begin/
CATEGORIES:Grading Periods
END:VEVENT
BEGIN:VEVENT
DTSTART;VALUE=DATE:20211217
DTEND;VALUE=DATE:20211218
DTSTAMP:20260424T111743
CREATED:20210729T224325Z
LAST-MODIFIED:20210730T130519Z
UID:8071-1639699200-1639785599@hquranacademy.org
SUMMARY:Grading Period II Ends
DESCRIPTION:
URL:https://hquranacademy.org/events/grading-period-ii-ends-2/
CATEGORIES:Academic,Grading Periods
END:VEVENT
BEGIN:VEVENT
DTSTART;VALUE=DATE:20211013
DTEND;VALUE=DATE:20211014
DTSTAMP:20260424T111743
CREATED:20210729T223800Z
LAST-MODIFIED:20210730T131130Z
UID:8055-1634083200-1634169599@hquranacademy.org
SUMMARY:Grading Period II Begins
DESCRIPTION:
URL:https://hquranacademy.org/events/grading-period-ii-begins-2/
CATEGORIES:Academic,Grading Periods
END:VEVENT
BEGIN:VEVENT
DTSTART;VALUE=DATE:20211012
DTEND;VALUE=DATE:20211013
DTSTAMP:20260424T111743
CREATED:20210729T223710Z
LAST-MODIFIED:20210730T131116Z
UID:8053-1633996800-1634083199@hquranacademy.org
SUMMARY:Grading Period I Ends
DESCRIPTION:
URL:https://hquranacademy.org/events/grading-period-i-ends-2/
CATEGORIES:Academic,Grading Periods
END:VEVENT
BEGIN:VEVENT
DTSTART;VALUE=DATE:20210505
DTEND;VALUE=DATE:20210506
DTSTAMP:20260424T111743
CREATED:20200822T212422Z
LAST-MODIFIED:20200822T212422Z
UID:6987-1620172800-1620259199@hquranacademy.org
SUMMARY:Grading Period IV ends
DESCRIPTION:
URL:https://hquranacademy.org/events/grading-period-iv-ends/
CATEGORIES:Grading Periods
END:VEVENT
BEGIN:VEVENT
DTSTART;VALUE=DATE:20210322
DTEND;VALUE=DATE:20210323
DTSTAMP:20260424T111743
CREATED:20200822T211827Z
LAST-MODIFIED:20200822T211827Z
UID:6971-1616371200-1616457599@hquranacademy.org
SUMMARY:Grading Period IV Starts
DESCRIPTION:
URL:https://hquranacademy.org/events/grading-period-iv-starts/
CATEGORIES:Grading Periods
END:VEVENT
BEGIN:VEVENT
DTSTART;VALUE=DATE:20210312
DTEND;VALUE=DATE:20210313
DTSTAMP:20260424T111743
CREATED:20200822T211636Z
LAST-MODIFIED:20200822T211636Z
UID:6967-1615507200-1615593599@hquranacademy.org
SUMMARY:Grading Period III Ends
DESCRIPTION:
URL:https://hquranacademy.org/events/grading-period-iii-ends/
CATEGORIES:Grading Periods
END:VEVENT
END:VCALENDAR